Workbook
Name _2_?: #REF!
Name _4_??????: #REF!
Name a: #REF!
Name ChangColor_With2: '[1]SZ2-1'!$34:$34
Name KMDM: #REF!
Name Print_Area_MI: #REF!
Name UF: #REF!
Name UFPrn20000925150907: #REF!
Name UFPrn20000925150927: #REF!
Name UFPrn20000925165850: #REF!
Name UFPrn20010303111833: #REF!
Name UFPrn20010303145213: #REF!
Name UFPrn20010303145710: #REF!
Name UFPrn20010303145843: #REF!
Name UFPrn20010303150906: #REF!
Name UFPrn20010303150939: #REF!
Name UFPrn20030223103430: #REF!
Name UFPrn20031225094429: #REF!
Name UFPrn20031225094904: #REF!
Name UFPrn20031225094927: #REF!
Name UFPrn20031225094955: #REF!
Name UFPrn20031225153540: #REF!
Name UFPrn20031225164314: #REF!
Name UFPrn20031225164340: #REF!
Name UFPrn20031225164436: #REF!
Name UFPrn20031225164518: #REF!
Name UFPrn20031225164551: #REF!
Name UFPrn20031225164627: #REF!
Name UFPrn20031225164726: #REF!
Name UFPrn20040108094949: #REF!
Name UFPrn20040108095037: #REF!
Name UFPrn20040108095054: #REF!
Name UFPrn20040108095311: #REF!
Name UFPrn20040108215511: #REF!
Name UFPrn20040212103151: #REF!
Name UFPrn20040213155233: #REF!
Name UFPrn20040213155320: #REF!
Name UFPrn20040213155348: #REF!
Name UFPrn20040213155409: #REF!
Name UFPrn20040213155529: #REF!
Name UFPrn20040213155620: #REF!
Name UFPrn20040215194039: #REF!
Name UFPrn20040215194101: #REF!
Name UFPrn20040215194121: #REF!
Name UFPrn20040215194200: #REF!
Name UFPrn20040215194222: #REF!
Name UFPrn20040215194256: #REF!
Name UFPrn20040215194324: #REF!
Name UFPrn20040215194347: #REF!
Name UFPrn20040215194424: #REF!
Name UFPrn20040215194450: #REF!
Name UFPrn20040215204411: #REF!
Name UFPrn20040215204948: #REF!
Name UFPrn20061226141521: #REF!
Name 报表科目: #REF!
Name 存货93期初: [3]企业表一!$C$7
Name 存货93期末: [3]企业表一!$D$7
Name 存货94期初: [3]企业表一!$E$7
Name 存货94期末: [3]企业表一!$F$7
Name 存货95期初: [3]企业表一!$G$7

Sheet 任务要求
B2: 任务背景： 1、任务中的公司是一家生产制造企业，产品有排气管、消声器及波纹管，均为单步骤生产 2、存货采用移动加权平均法 3、月末在产品仅计算直接材料 4、制造费用按直接材料比例分配
B11: 序号 | C11: 任务要求
B12: 1 | C12: 根据出库单序时簿中的数量，用sumif函数引入至原材料进销存汇总表1月出库“数量”里。
B13: 2 | C13: 根据出库单序时簿中的数量，用sumif函数引入至原材料进销存汇总表2月出库“金额”里。
B14: 3 | C14: 计算《原材料进销存汇总表》1月库存数量。公式：1月库存数量=12月底库存数量+1月入库数量-1月出库数量。
B15: 4 | C15: 计算《原材料进销存汇总表》1月库存金额。公式：1月库存金额=12月底库存金额+1月入库金额-2月出库金额。

Sheet 练习-原材料进销存汇总表
F2: 12月库存 | I2: 1月入库 | L2: 1月出库 | O2: 1月库存
B3: 序号 | C3: 物料编码 | D3: 材料名称 | E3: 商家 | F3: 数量 | G3: 单价 | H3: 金额 | I3: 数量 | J3: 单价 | K3: 金额 | L3: 数量 | M3: 单价 | N3: 金额 | O3: 数量 | P3: 单价 | Q3: 金额
B4: 1 | C4: A0001 | D4: 排气管端面板 | E4: 北京恒卓 | F4: 333 | G4: 3.38 | H4: =F4*G4 -> 1125.54 | I4: 3900 | J4: 3.3795275 | K4: 13180 | M4: 3.3795275 | P4: 3.3795275
B5: 2 | C5: A0002 | D5: 排气管前段管 | E5: 北京恒卓 | F5: 461 | G5: 5.64 | H5: =F5*G5 -> 2600.04 | I5: 2500 | J5: 5.5893414 | K5: 13950 | M5: 5.5893414 | P5: 5.5893414
B6: 3 | C6: A0003 | D6: 排气管中段管 | E6: 北京恒卓 | F6: 380 | G6: 2.45 | H6: =F6*G6 -> 931 | I6: 5500 | J6: 2.4202381 | K6: 13300 | M6: 2.4202381 | P6: 2.4202381
B7: 4 | C7: A0004 | D7: 排气管后段管 | E7: 北京恒卓 | F7: 476 | G7: 5.88 | H7: =F7*G7 -> 2798.88 | I7: 2500 | J7: 5.9052016 | K7: 14775 | M7: 5.9052016 | P7: 5.9052016
B8: 5 | C8: A0005 | D8: 消声器进气管前段管 | E8: 北京恒卓 | F8: 500 | G8: 1.42 | H8: =F8*G8 -> 710 | I8: 4000 | J8: 1.4022222 | K8: 5600 | M8: 1.4022222 | P8: 1.4022222
B9: 6 | C9: A0006 | D9: 消声器筒体合件 | E9: 北京恒卓 | F9: 455 | G9: 44.5 | H9: =F9*G9 -> 20247.5 | I9: 4100 | J9: 44.496707 | K9: 182435 | M9: 44.496707 | P9: 44.496707
B10: 7 | C10: A0007 | D10: 消声器隔热罩 | E10: 北京恒卓 | F10: 1550 | G10: 4.38 | H10: =F10*G10 -> 6789 | I10: 1500 | J10: 4.3898361 | K10: 6600 | M10: 4.3898361 | P10: 4.3898361
B11: 8 | C11: A0008 | D11: 消声器尾管 | E11: 天津业泰 | F11: 579 | G11: 9.46 | H11: =F11*G11 -> 5477.34 | I11: 3900 | J11: 9.4948292 | K11: 37050 | M11: 9.4948292 | P11: 9.4948292
B12: 9 | C12: A0009 | D12: 消声器前加强板 | E12: 天津业泰 | F12: 450 | G12: 0.775 | H12: =F12*G12 -> 348.75 | I12: 2600 | J12: 0.79040984 | K12: 2062 | M12: 0.79040984 | P12: 0.79040984
B13: 10 | C13: A0010 | D13: 消声器后加强板 | E13: 天津业泰 | F13: 350 | G13: 0.465 | H13: =F13*G13 -> 162.75 | I13: 2700 | J13: 0.49368852 | K13: 1343 | M13: 0.49368852 | P13: 0.49368852
B14: 11 | C14: A0011 | D14: 波纹管组成 | E14: 天津业泰 | F14: 336 | G14: 16.77 | H14: =F14*G14 -> 5634.72 | I14: 2700 | J14: 16.612227 | K14: 44800 | M14: 16.612227 | P14: 16.612227
B15: 12 | C15: A0012 | D15: 筒体吊钩 | E15: 天津业泰 | F15: 423 | G15: 1.05 | H15: =F15*G15 -> 444.15 | I15: 5900 | J15: 1.0147319 | K15: 5972 | M15: 1.0147319 | P15: 1.0147319
... B33: 30 | C33: B0006 | D33: 密封环 | E33: 北京翎翔 | F33: 6558 | G33: 2.67 | H33: =F33*G33 -> 17509.86 | I33: 6000 | J33: 2.6843335 | K33: 16200 | M33: 2.6843335 | P33: 2.6843335

Sheet 原始数据-1月份出库单序时簿
A1: 序号 | B1: 出库单编号 | C1: 出库日期 | D1: 用途 | E1: 物料编码 | F1: 原材料名称 | G1: 数量 | H1: 单价 | I1: 金额
A2: 1 | B2: 201801001 | C2: 43106 | D2: 排气管 | E2: A0001 | F2: 排气管端面板 | G2: 1200 | H2: =VLOOKUP(E2,'参考答案-原材料进销存汇总表'!$C$4:$N$33,11,0) -> 3.3795275 | I2: =G2*H2 -> 4055.433
A3: 2 | B3: 201801001 | C3: 43106 | D3: 排气管 | E3: A0002 | F3: 排气管前段管 | G3: 600 | H3: =VLOOKUP(E3,'参考答案-原材料进销存汇总表'!$C$4:$N$33,11,0) -> 5.5893414 | I3: =G3*H3 -> 3353.6049
A4: 3 | B4: 201801001 | C4: 43106 | D4: 排气管 | E4: A0003 | F4: 排气管中段管 | G4: 1800 | H4: =VLOOKUP(E4,'参考答案-原材料进销存汇总表'!$C$4:$N$33,11,0) -> 2.4202381 | I4: =G4*H4 -> 4356.4286
A5: 4 | B5: 201801001 | C5: 43106 | D5: 排气管 | E5: A0004 | F5: 排气管后段管 | G5: 600 | H5: =VLOOKUP(E5,'参考答案-原材料进销存汇总表'!$C$4:$N$33,11,0) -> 5.9052016 | I5: =G5*H5 -> 3543.121
A6: 5 | B6: 201801001 | C6: 43106 | D6: 排气管 | E6: A0017 | F6: 排气管前端法兰盘 | G6: 1800 | H6: =VLOOKUP(E6,'参考答案-原材料进销存汇总表'!$C$4:$N$33,11,0) -> 10.422078 | I6: =G6*H6 -> 18759.741
A7: 6 | B7: 201801001 | C7: 43106 | D7: 排气管 | E7: A0019 | F7: 前消支架 | G7: 1200 | H7: =VLOOKUP(E7,'参考答案-原材料进销存汇总表'!$C$4:$N$33,11,0) -> 1.0339786 | I7: =G7*H7 -> 1240.7743
A8: 7 | B8: 201801001 | C8: 43106 | D8: 排气管 | E8: A0020 | F8: 后消支架 | G8: 1200 | H8: =VLOOKUP(E8,'参考答案-原材料进销存汇总表'!$C$4:$N$33,11,0) -> 0.8739592 | I8: =G8*H8 -> 1048.751
A9: 8 | B9: 201801001 | C9: 43106 | D9: 排气管 | E9: A0021 | F9: 前消前段管 | G9: 600 | H9: =VLOOKUP(E9,'参考答案-原材料进销存汇总表'!$C$4:$N$33,11,0) -> 3.491195 | I9: =G9*H9 -> 2094.717
A10: 9 | B10: 201801001 | C10: 43106 | D10: 排气管 | E10: A0022 | F10: 前消后段管 | G10: 1200 | H10: =VLOOKUP(E10,'参考答案-原材料进销存汇总表'!$C$4:$N$33,11,0) -> 4.0069525 | I10: =G10*H10 -> 4808.343
A11: 10 | B11: 201801002 | C11: 43107 | D11: 车间辅料 | E11: B0001 | F11: 后氧传感器螺母 | G11: 8550 | H11: =VLOOKUP(E11,'参考答案-原材料进销存汇总表'!$C$4:$N$33,11,0) -> 1.9732345 | I11: =G11*H11 -> 16871.155
A12: 11 | B12: 201801002 | C12: 43107 | D12: 车间辅料 | E12: B0002 | F12: 连接盘 | G12: 3500 | H12: =VLOOKUP(E12,'参考答案-原材料进销存汇总表'!$C$4:$N$33,11,0) -> 2.0254936 | I12: =G12*H12 -> 7089.2277
A13: 12 | B13: 201801002 | C13: 43107 | D13: 车间辅料 | E13: B0003 | F13: 螺栓 | G13: 5000 | H13: =VLOOKUP(E13,'参考答案-原材料进销存汇总表'!$C$4:$N$33,11,0) -> 0.29388576 | I13: =G13*H13 -> 1469.4288
... A110: 109 | B110: 201801013 | C110: 42764 | D110: 波纹管 | E110: A0018 | F110: 三元催化器隔热板E4 | G110: 1000 | H110: =VLOOKUP(E110,'参考答案-原材料进销存汇总表'!$C$4:$N$33,11,0) -> 2.45 | I110: =G110*H110 -> 2450

Sheet 参考答案-原材料进销存汇总表
F2: 12月库存 | I2: 1月入库 | L2: 1月出库 | O2: 1月库存
B3: 序号 | C3: 物料编码 | D3: 材料名称 | E3: 商家 | F3: 数量 | G3: 单价 | H3: 金额 | I3: 数量 | J3: 单价 | K3: 金额 | L3: 数量 | M3: 单价 | N3: 金额 | O3: 数量 | P3: 单价 | Q3: 金额
B4: 1 | C4: A0001 | D4: 排气管端面板 | E4: 北京恒卓 | F4: 333 | G4: 3.38 | H4: =F4*G4 -> 1125.54 | I4: 3900 | J4: 3.3795275 | K4: 13180 | L4: =SUMIF('原始数据-1月份出库单序时簿'!E:E,'参考答案-原材料进销存汇总表'!C:C,'原始数据-1月份出库单序时簿'!G:G) -> 3800 | M4: 3.3795275 | N4: =SUMIF('原始数据-1月份出库单序时簿'!E:E,'参考答案-原材料进销存汇总表'!C:C,'原始数据-1月份出库单序时簿'!I:I) -> 12842.205 | O4: =F4+I4-L4 -> 433 | P4: 3.3795275 | Q4: =H4+K4-N4 -> 1463.3354
B5: 2 | C5: A0002 | D5: 排气管前段管 | E5: 北京恒卓 | F5: 461 | G5: 5.64 | H5: =F5*G5 -> 2600.04 | I5: 2500 | J5: 5.5893414 | K5: 13950 | L5: =SUMIF('原始数据-1月份出库单序时簿'!E:E,'参考答案-原材料进销存汇总表'!C:C,'原始数据-1月份出库单序时簿'!G:G) -> 2200 | M5: 5.5893414 | N5: =SUMIF('原始数据-1月份出库单序时簿'!E:E,'参考答案-原材料进销存汇总表'!C:C,'原始数据-1月份出库单序时簿'!I:I) -> 12296.551 | O5: =F5+I5-L5 -> 761 | P5: 5.5893414 | Q5: =H5+K5-N5 -> 4253.4888
B6: 3 | C6: A0003 | D6: 排气管中段管 | E6: 北京恒卓 | F6: 380 | G6: 2.45 | H6: =F6*G6 -> 931 | I6: 5500 | J6: 2.4202381 | K6: 13300 | L6: =SUMIF('原始数据-1月份出库单序时簿'!E:E,'参考答案-原材料进销存汇总表'!C:C,'原始数据-1月份出库单序时簿'!G:G) -> 5700 | M6: 2.4202381 | N6: =SUMIF('原始数据-1月份出库单序时簿'!E:E,'参考答案-原材料进销存汇总表'!C:C,'原始数据-1月份出库单序时簿'!I:I) -> 13795.357 | O6: =F6+I6-L6 -> 180 | P6: 2.4202381 | Q6: =H6+K6-N6 -> 435.64286
B7: 4 | C7: A0004 | D7: 排气管后段管 | E7: 北京恒卓 | F7: 476 | G7: 5.88 | H7: =F7*G7 -> 2798.88 | I7: 2500 | J7: 5.9052016 | K7: 14775 | L7: =SUMIF('原始数据-1月份出库单序时簿'!E:E,'参考答案-原材料进销存汇总表'!C:C,'原始数据-1月份出库单序时簿'!G:G) -> 2200 | M7: 5.9052016 | N7: =SUMIF('原始数据-1月份出库单序时簿'!E:E,'参考答案-原材料进销存汇总表'!C:C,'原始数据-1月份出库单序时簿'!I:I) -> 12991.444 | O7: =F7+I7-L7 -> 776 | P7: 5.9052016 | Q7: =H7+K7-N7 -> 4582.4365
B8: 5 | C8: A0005 | D8: 消声器进气管前段管 | E8: 北京恒卓 | F8: 500 | G8: 1.42 | H8: =F8*G8 -> 710 | I8: 4000 | J8: 1.4022222 | K8: 5600 | L8: =SUMIF('原始数据-1月份出库单序时簿'!E:E,'参考答案-原材料进销存汇总表'!C:C,'原始数据-1月份出库单序时簿'!G:G) -> 3800 | M8: 1.4022222 | N8: =SUMIF('原始数据-1月份出库单序时簿'!E:E,'参考答案-原材料进销存汇总表'!C:C,'原始数据-1月份出库单序时簿'!I:I) -> 5328.4444 | O8: =F8+I8-L8 -> 700 | P8: 1.4022222 | Q8: =H8+K8-N8 -> 981.55556
B9: 6 | C9: A0006 | D9: 消声器筒体合件 | E9: 北京恒卓 | F9: 455 | G9: 44.5 | H9: =F9*G9 -> 20247.5 | I9: 4100 | J9: 44.496707 | K9: 182435 | L9: =SUMIF('原始数据-1月份出库单序时簿'!E:E,'参考答案-原材料进销存汇总表'!C:C,'原始数据-1月份出库单序时簿'!G:G) -> 3800 | M9: 44.496707 | N9: =SUMIF('原始数据-1月份出库单序时簿'!E:E,'参考答案-原材料进销存汇总表'!C:C,'原始数据-1月份出库单序时簿'!I:I) -> 169087.49 | O9: =F9+I9-L9 -> 755 | P9: 44.496707 | Q9: =H9+K9-N9 -> 33595.014
B10: 7 | C10: A0007 | D10: 消声器隔热罩 | E10: 北京恒卓 | F10: 1550 | G10: 4.38 | H10: =F10*G10 -> 6789 | I10: 1500 | J10: 4.3898361 | K10: 6600 | L10: =SUMIF('原始数据-1月份出库单序时簿'!E:E,'参考答案-原材料进销存汇总表'!C:C,'原始数据-1月份出库单序时簿'!G:G) -> 2200 | M10: 4.3898361 | N10: =SUMIF('原始数据-1月份出库单序时簿'!E:E,'参考答案-原材料进销存汇总表'!C:C,'原始数据-1月份出库单序时簿'!I:I) -> 9657.6393 | O10: =F10+I10-L10 -> 850 | P10: 4.3898361 | Q10: =H10+K10-N10 -> 3731.3607
B11: 8 | C11: A0008 | D11: 消声器尾管 | E11: 天津业泰 | F11: 579 | G11: 9.46 | H11: =F11*G11 -> 5477.34 | I11: 3900 | J11: 9.4948292 | K11: 37050 | L11: =SUMIF('原始数据-1月份出库单序时簿'!E:E,'参考答案-原材料进销存汇总表'!C:C,'原始数据-1月份出库单序时簿'!G:G) -> 3800 | M11: 9.4948292 | N11: =SUMIF('原始数据-1月份出库单序时簿'!E:E,'参考答案-原材料进销存汇总表'!C:C,'原始数据-1月份出库单序时簿'!I:I) -> 36080.351 | O11: =F11+I11-L11 -> 679 | P11: 9.4948292 | Q11: =H11+K11-N11 -> 6446.989
B12: 9 | C12: A0009 | D12: 消声器前加强板 | E12: 天津业泰 | F12: 450 | G12: 0.775 | H12: =F12*G12 -> 348.75 | I12: 2600 | J12: 0.79040984 | K12: 2062 | L12: =SUMIF('原始数据-1月份出库单序时簿'!E:E,'参考答案-原材料进销存汇总表'!C:C,'原始数据-1月份出库单序时簿'!G:G) -> 2200 | M12: 0.79040984 | N12: =SUMIF('原始数据-1月份出库单序时簿'!E:E,'参考答案-原材料进销存汇总表'!C:C,'原始数据-1月份出库单序时簿'!I:I) -> 1738.9016 | O12: =F12+I12-L12 -> 850 | P12: 0.79040984 | Q12: =H12+K12-N12 -> 671.84836
B13: 10 | C13: A0010 | D13: 消声器后加强板 | E13: 天津业泰 | F13: 350 | G13: 0.465 | H13: =F13*G13 -> 162.75 | I13: 2700 | J13: 0.49368852 | K13: 1343 | L13: =SUMIF('原始数据-1月份出库单序时簿'!E:E,'参考答案-原材料进销存汇总表'!C:C,'原始数据-1月份出库单序时簿'!G:G) -> 2200 | M13: 0.49368852 | N13: =SUMIF('原始数据-1月份出库单序时簿'!E:E,'参考答案-原材料进销存汇总表'!C:C,'原始数据-1月份出库单序时簿'!I:I) -> 1086.1148 | O13: =F13+I13-L13 -> 850 | P13: 0.49368852 | Q13: =H13+K13-N13 -> 419.63525
B14: 11 | C14: A0011 | D14: 波纹管组成 | E14: 天津业泰 | F14: 336 | G14: 16.77 | H14: =F14*G14 -> 5634.72 | I14: 2700 | J14: 16.612227 | K14: 44800 | L14: =SUMIF('原始数据-1月份出库单序时簿'!E:E,'参考答案-原材料进销存汇总表'!C:C,'原始数据-1月份出库单序时簿'!G:G) -> 2800 | M14: 16.612227 | N14: =SUMIF('原始数据-1月份出库单序时簿'!E:E,'参考答案-原材料进销存汇总表'!C:C,'原始数据-1月份出库单序时簿'!I:I) -> 46514.235 | O14: =F14+I14-L14 -> 236 | P14: 16.612227 | Q14: =H14+K14-N14 -> 3920.4855
B15: 12 | C15: A0012 | D15: 筒体吊钩 | E15: 天津业泰 | F15: 423 | G15: 1.05 | H15: =F15*G15 -> 444.15 | I15: 5900 | J15: 1.0147319 | K15: 5972 | L15: =SUMIF('原始数据-1月份出库单序时簿'!E:E,'参考答案-原材料进销存汇总表'!C:C,'原始数据-1月份出库单序时簿'!G:G) -> 5000 | M15: 1.0147319 | N15: =SUMIF('原始数据-1月份出库单序时簿'!E:E,'参考答案-原材料进销存汇总表'!C:C,'原始数据-1月份出库单序时簿'!I:I) -> 5073.6597 | O15: =F15+I15-L15 -> 1323 | P15: 1.0147319 | Q15: =H15+K15-N15 -> 1342.4903
... B33: 30 | C33: B0006 | D33: 密封环 | E33: 北京翎翔 | F33: 6558 | G33: 2.67 | H33: =F33*G33 -> 17509.86 | I33: 6000 | J33: 2.6843335 | K33: 16200 | L33: =SUMIF('原始数据-1月份出库单序时簿'!E:E,'参考答案-原材料进销存汇总表'!C:C,'原始数据-1月份出库单序时簿'!G:G) -> 4300 | M33: 2.6843335 | N33: =SUMIF('原始数据-1月份出库单序时簿'!E:E,'参考答案-原材料进销存汇总表'!C:C,'原始数据-1月份出库单序时簿'!I:I) -> 11542.634 | O33: =F33+I33-L33 -> 8258 | P33: 2.6843335 | Q33: =H33+K33-N33 -> 22167.226

Sheet Sheet6
